BEGIN:VCALENDAR
VERSION:2.0
PRODID:-//Bonjour Pondichérry ™ - ECPv6.13.2.1//NONSGML v1.0//EN
CALSCALE:GREGORIAN
METHOD:PUBLISH
X-WR-CALNAME:Bonjour Pondichérry ™
X-ORIGINAL-URL:https://events.bonjourpondicherry.in
X-WR-CALDESC:Events for Bonjour Pondichérry ™
REFRESH-INTERVAL;VALUE=DURATION:PT1H
X-Robots-Tag:noindex
X-PUBLISHED-TTL:PT1H
BEGIN:VTIMEZONE
TZID:Asia/Kolkata
BEGIN:STANDARD
TZOFFSETFROM:+0530
TZOFFSETTO:+0530
TZNAME:IST
DTSTART:20260101T000000
END:STANDARD
END:VTIMEZONE
BEGIN:VEVENT
DTSTART;TZID=Asia/Kolkata:20260424T170000
DTEND;TZID=Asia/Kolkata:20260424T233000
DTSTAMP:20260423T204303
CREATED:20260422T123737Z
LAST-MODIFIED:20260422T123737Z
UID:12720-1777050000-1777073400@events.bonjourpondicherry.in
SUMMARY:FIESTA FRIDAY - AMITY NIGHTLIFE
DESCRIPTION:The weekend starts here… and it starts LOUD 💥Step into a night where the beats hit harder\, the vibes feel electric\, and the party never slows down ⚡ \nThis Friday\, DJ JAAPEE  is taking over the console to deliver a power-packed set that’ll keep you on your feet all night long 🎧🔥 From high-energy drops to crowd-favorite tracks\, expect nothing less than a full-on party experience! \nWhether you’re coming in with your gang or planning to meet new faces on the dance floor\, Amity Taproom & Nightlife is the place to be 🍻✨Great music\, signature drinks\, vibrant crowd\, and that unbeatable Friday energy — everything you need to kickstart your weekend right! \nDon’t just make plans… make memories 💃🕺 \n🕔 5 PM onwards📅 124th April\, Friday🎟️ Free Entry (Cover charges applicable)📍 Amity Taproom & Nightlife\, Puducherry📞 RSVP: 6382765446 | 8939798002 \n#AmityNightlife #FiestaFriday #PondicherryNights #DJDuke #FridayParty #NightlifeVibes #WeekendStartsHere #PartyInPondy #BonjourPondicherry
URL:https://events.bonjourpondicherry.in/event/fiesta-friday-amity-nightlife-3/
LOCATION:Amity Nightlife\, Amity Sky Bistro\, 18\, 45Ft road\, Vallalar Salai Rd\, Puducherry\, 605011\, Puducherry\,\, 605011\, India
ATTACH;FMTTYPE=image/jpeg:https://events.bonjourpondicherry.in/wp-content/uploads/2026/04/20260424-Fri-Amity-nightlife.jpg
END:VEVENT
BEGIN:VEVENT
DTSTART;TZID=Asia/Kolkata:20260424T170000
DTEND;TZID=Asia/Kolkata:20260424T233000
DTSTAMP:20260423T204303
CREATED:20260422T124406Z
LAST-MODIFIED:20260422T124406Z
UID:12727-1777050000-1777073400@events.bonjourpondicherry.in
SUMMARY:TIPSY TRADITIONS - FLAMINGS DRAGON
DESCRIPTION:Tipsy Traditions at Flaming Dragons – This Friday! \nStep into the spotlight and let the rhythm of Bollywood take over your weekend! Join us at Flaming Dragons Lounge & Nightlife for an electrifying evening of music\, lights\, and celebration on Friday\, April 24\, starting 5 PM onwards. \nFeaturing: Bollywood hits & dancefloor favorites Free walk-in entry for stags\, girls & couples – no cover\, no hassle! Vibrant ambiance\, festive décor & nonstop beats \nOffer: Bollywood and Commercial Music – Play \nVenue: #7\, Labourdonnais Street\, Puducherry RSVP: 8939798002 / 8428741617 \nWhether you’re coming solo\, with friends\, or as a couple\, this is your chance to dance\, mingle\, and celebrate the spirit of Bollywood in style. Dress to impress\, arrive early\, and let the music move you. \n#BollywoodNight #FlamingDragonsPondy #PondicherryNightlife #FreeEntryParty #FridayVibes #DanceTillYouDrop #BollywoodBeats #GirlsNightOut #CouplesWelcome #StagEntryFree #PartyInPondy #BonjourPondicherry
URL:https://events.bonjourpondicherry.in/event/tipsy-traditions-flamings-dragon-10/
LOCATION:Flaming Dragons Lounge and Nightlife\, Flaming Dragons\, 7\, Labourdonnais St\, Puducherry\, Puducherry\, Puducherry\, 605001\, India
ATTACH;FMTTYPE=image/jpeg:https://events.bonjourpondicherry.in/wp-content/uploads/2026/04/20260424-Fri-Flaming.jpg
END:VEVENT
END:VCALENDAR