BEGIN:VCALENDAR
VERSION:2.0
PRODID:-//Bonjour Pondichérry ™ - ECPv6.13.2.1//NONSGML v1.0//EN
CALSCALE:GREGORIAN
METHOD:PUBLISH
X-WR-CALNAME:Bonjour Pondichérry ™
X-ORIGINAL-URL:https://events.bonjourpondicherry.in
X-WR-CALDESC:Events for Bonjour Pondichérry ™
REFRESH-INTERVAL;VALUE=DURATION:PT1H
X-Robots-Tag:noindex
X-PUBLISHED-TTL:PT1H
BEGIN:VTIMEZONE
TZID:Asia/Kolkata
BEGIN:STANDARD
TZOFFSETFROM:+0530
TZOFFSETTO:+0530
TZNAME:IST
DTSTART:20250101T000000
END:STANDARD
END:VTIMEZONE
BEGIN:VEVENT
DTSTART;TZID=Asia/Kolkata:20251217T190000
DTEND;TZID=Asia/Kolkata:20251217T233000
DTSTAMP:20260420T113938
CREATED:20251216T051039Z
LAST-MODIFIED:20251216T051039Z
UID:11296-1765998000-1766014200@events.bonjourpondicherry.in
SUMMARY:WOK AND ROLL WEDNESDAYS - FLAMING DRAGONS
DESCRIPTION:Wok & Roll Wednesdays – Where Flavor Meets the Beat! \nDate: 17th December Time: From 7:00 PM onwards Location: #7\, Labourdonnais St.\, Puducherry RSVP: 89397 98002 | 84287 41617 \nGet ready to stir up your midweek with Wok & Roll Wednesdays—Pondicherry’s most vibrant Wednesday night experience! Whether you’re craving bold Asian flavors or a dancefloor escape\, this is your midweek fix. \nFeaturing: KICKS Let the rhythm take over as KICKS spins the vibe with high-energy beats and smooth transitions. It’s not just dinner—it’s a party. \nWhat’s Cooking: \n20% OFF on all food orders\nSignature cocktails and sizzling wok specials\nFree shots for ladies till 10 PM\nFree entry for couples and stags \nWhy You’ll Love It: \nA perfect blend of nightlife and dining\nExclusive midweek offers that reward early birds and party starters\nChic ambiance with a crowd that knows how to roll\nIdeal for friends\, couples\, and solo groove-seekers \nSnap your Wok & Roll moments and tag us! #WokAndRollWednesdays #PondyNights #FoodAndBeats #LadiesNightPondy #KicksLive #BonjourPondicherry
URL:https://events.bonjourpondicherry.in/event/wok-and-roll-wednesdays-flaming-dragons-5/
LOCATION:Flaming Dragons Lounge and Nightlife\, Flaming Dragons\, 7\, Labourdonnais St\, Puducherry\, Puducherry\, Puducherry\, 605001\, India
ATTACH;FMTTYPE=image/png:https://events.bonjourpondicherry.in/wp-content/uploads/2025/12/20251217-Wednesday-Flaming-Dragons.png
END:VEVENT
END:VCALENDAR