BEGIN:VCALENDAR
VERSION:2.0
PRODID:-//Bonjour Pondichérry ™ - ECPv6.13.2.1//NONSGML v1.0//EN
CALSCALE:GREGORIAN
METHOD:PUBLISH
X-WR-CALNAME:Bonjour Pondichérry ™
X-ORIGINAL-URL:https://events.bonjourpondicherry.in
X-WR-CALDESC:Events for Bonjour Pondichérry ™
REFRESH-INTERVAL;VALUE=DURATION:PT1H
X-Robots-Tag:noindex
X-PUBLISHED-TTL:PT1H
BEGIN:VTIMEZONE
TZID:Asia/Kolkata
BEGIN:STANDARD
TZOFFSETFROM:+0530
TZOFFSETTO:+0530
TZNAME:IST
DTSTART:20250101T000000
END:STANDARD
END:VTIMEZONE
BEGIN:VEVENT
DTSTART;TZID=Asia/Kolkata:20251205T190000
DTEND;TZID=Asia/Kolkata:20251205T233000
DTSTAMP:20260420T150508
CREATED:20251205T045350Z
LAST-MODIFIED:20251205T045350Z
UID:11173-1764961200-1764977400@events.bonjourpondicherry.in
SUMMARY:UNPLUGGED NIGHTS - AMITY SKY BISTRO
DESCRIPTION:🎵 AMITY FAMILY SKY BISTRO — UNPLUGGED NIGHTS 🎵 \nExperience a soulful and soothing Thursday evening under the open sky as Amity Sky Bistro brings you a magical Unplugged Night featuring the incredibly talented Dheebi & Vicky. ✨🌙 \nLet their warm vocals\, live acoustics\, and heart-touching melodies lift your mood and set the perfect atmosphere for a relaxing night out. From romantic classics to nostalgic favorites and soft contemporary hits – it’s the ideal escape from your weekday rush. 💛🎶 \n✨ What to Expect Tonight:\n• Soulful unplugged music\n• Stunning rooftop ambience\n• Perfect chill vibe for families & friends\n• A peaceful\, feel-good evening with great food \nMake your night memorable with good music\, good food\, and even better company — only at Amity Family Sky Bistro. 🌆🍽️ \n🗓️ 05th Dec\n⏰ 7 PM onwards\n📍 Amity Family Sky Bistro\, Pondicherry\n📞 RSVP: 6382765446 | 8939798002 \n#AmitySkyBistro #UnpluggedNights #LiveMusic #PondyEvents #RooftopVibes #DheebiAndVicky #AcousticEvening #PondicherryFoodies #LivePerformance #ChillNight #MusicLovers #PondyNightlife #GoodVibesOnly
URL:https://events.bonjourpondicherry.in/event/unplugged-nights-amity-sky-bistro-3/
LOCATION:Amity Family Sky Bistro\, 18\, 45Ft Road\, Vallalar Salai Rd\, Pondicherry\, Pondicherry\, India
ATTACH;FMTTYPE=image/jpeg:https://events.bonjourpondicherry.in/wp-content/uploads/2025/12/WhatsApp-Image-2025-12-03-at-7.36.16-AM2.jpeg
END:VEVENT
END:VCALENDAR