BEGIN:VCALENDAR
VERSION:2.0
PRODID:-//Bonjour Pondichérry ™ - ECPv6.13.2.1//NONSGML v1.0//EN
CALSCALE:GREGORIAN
METHOD:PUBLISH
X-WR-CALNAME:Bonjour Pondichérry ™
X-ORIGINAL-URL:https://events.bonjourpondicherry.in
X-WR-CALDESC:Events for Bonjour Pondichérry ™
REFRESH-INTERVAL;VALUE=DURATION:PT1H
X-Robots-Tag:noindex
X-PUBLISHED-TTL:PT1H
BEGIN:VTIMEZONE
TZID:Asia/Kolkata
BEGIN:STANDARD
TZOFFSETFROM:+0530
TZOFFSETTO:+0530
TZNAME:IST
DTSTART:20250101T000000
END:STANDARD
END:VTIMEZONE
BEGIN:VEVENT
DTSTART;TZID=Asia/Kolkata:20251228T200000
DTEND;TZID=Asia/Kolkata:20251228T233000
DTSTAMP:20260420T061547
CREATED:20251226T065105Z
LAST-MODIFIED:20251227T053359Z
UID:11408-1766952000-1766964600@events.bonjourpondicherry.in
SUMMARY:UNPLUGGED NIGHT - AMITY SKY BISTRO
DESCRIPTION:🎙️ UNPLUGGED NIGHT — LIVE AT AMITY FAMILY SKY BISTRO 🎙️ \nThis 28th December\, get ready for a soothing\, soulful musical evening as Dheebi and Vicky bring an intimate unplugged performance to the Amity Family Sky Bistro stage. 🌙✨ \nExperience warm lights\, calming melodies\, and a cozy ambience perfect for families\, friends\, and anyone who loves pure\, heartfelt music. 🎶🌿 \n✨ WHAT TO EXPECT \n🎤 Live Unplugged Music \n🎸 Dheebi & Vicky performing your favorite soulful tracks \n🍽️ Delicious food & a relaxed sky-view setting \n🌙 A perfect Sunday evening unwind \n📍 Amity Family Sky Bistro\, Puducherry\n🕖 28th Dec\, 7 PM onwards\n📞 RSVP: 63827 65446 | 89397 98002 \n#AmitySkyBistro #UnpluggedNight #LiveMusicPondicherry #DheebiandVicky #PondyEvents #SkyBistroVibes #LiveAcoustic #PondicherryNights #MusicLovers #BonjourPondicherry
URL:https://events.bonjourpondicherry.in/event/unplugged-night-amity-sky-bistro-4/
LOCATION:Amity Family Sky Bistro\, 18\, 45Ft Road\, Vallalar Salai Rd\, Pondicherry\, Pondicherry\, India
ATTACH;FMTTYPE=image/jpeg:https://events.bonjourpondicherry.in/wp-content/uploads/2025/12/20251228-Sunday-Sky-Bistro-1.jpeg
END:VEVENT
END:VCALENDAR