BEGIN:VCALENDAR
VERSION:2.0
PRODID:-//Bonjour Pondichérry ™ - ECPv6.13.2.1//NONSGML v1.0//EN
CALSCALE:GREGORIAN
METHOD:PUBLISH
X-WR-CALNAME:Bonjour Pondichérry ™
X-ORIGINAL-URL:https://events.bonjourpondicherry.in
X-WR-CALDESC:Events for Bonjour Pondichérry ™
REFRESH-INTERVAL;VALUE=DURATION:PT1H
X-Robots-Tag:noindex
X-PUBLISHED-TTL:PT1H
BEGIN:VTIMEZONE
TZID:Asia/Kolkata
BEGIN:STANDARD
TZOFFSETFROM:+0530
TZOFFSETTO:+0530
TZNAME:IST
DTSTART:20250101T000000
END:STANDARD
END:VTIMEZONE
BEGIN:VEVENT
DTSTART;TZID=Asia/Kolkata:20251221T190000
DTEND;TZID=Asia/Kolkata:20251221T233000
DTSTAMP:20260420T094934
CREATED:20251220T065114Z
LAST-MODIFIED:20251220T065114Z
UID:11353-1766343600-1766359800@events.bonjourpondicherry.in
SUMMARY:UNPLUGGED NIGHT - AMITY SKY BISTRO
DESCRIPTION:🎙️ UNPLUGGED NIGHT — LIVE AT AMITY FAMILY SKY BISTRO 🎙️ \nThis 21st December\, get ready for a soothing\, soulful musical evening as Jordan and Band bring an intimate unplugged performance to the Amity Family Sky Bistro stage. 🌙✨ \nExperience warm lights\, calming melodies\, and a cozy ambience perfect for families\, friends\, and anyone who loves pure\, heartfelt music. 🎶🌿 \n✨ WHAT TO EXPECT \n🎤 Live Unplugged Music \n🎸 Jordan & Band performing your favorite soulful tracks \n🍽️ Delicious food & a relaxed sky-view setting \n🌙 A perfect Sunday evening unwind \n📍 Amity Family Sky Bistro\, Puducherry\n🕖 21st Dec\, 7 PM onwards\n📞 RSVP: 63827 65446 | 89397 98002 \n#AmitySkyBistro #UnpluggedNight #LiveMusicPondicherry #JordanAndBand #PondyEvents #SkyBistroVibes #LiveAcoustic #PondicherryNights #MusicLovers #BonjourPondicherry #WeekendVibes  🎶✨
URL:https://events.bonjourpondicherry.in/event/unplugged-night-amity-sky-bistro-3/
LOCATION:Amity Family Sky Bistro\, 18\, 45Ft Road\, Vallalar Salai Rd\, Pondicherry\, Pondicherry\, India
ATTACH;FMTTYPE=image/jpeg:https://events.bonjourpondicherry.in/wp-content/uploads/2025/12/Sunday-2.jpg
END:VEVENT
END:VCALENDAR