BEGIN:VCALENDAR
VERSION:2.0
PRODID:-//Bonjour Pondichérry ™ - ECPv6.13.2.1//NONSGML v1.0//EN
CALSCALE:GREGORIAN
METHOD:PUBLISH
X-WR-CALNAME:Bonjour Pondichérry ™
X-ORIGINAL-URL:https://events.bonjourpondicherry.in
X-WR-CALDESC:Events for Bonjour Pondichérry ™
REFRESH-INTERVAL;VALUE=DURATION:PT1H
X-Robots-Tag:noindex
X-PUBLISHED-TTL:PT1H
BEGIN:VTIMEZONE
TZID:Asia/Kolkata
BEGIN:STANDARD
TZOFFSETFROM:+0530
TZOFFSETTO:+0530
TZNAME:IST
DTSTART:20250101T000000
END:STANDARD
END:VTIMEZONE
BEGIN:VEVENT
DTSTART;TZID=Asia/Kolkata:20251206T190000
DTEND;TZID=Asia/Kolkata:20251206T233000
DTSTAMP:20260422T162554
CREATED:20251206T045956Z
LAST-MODIFIED:20251206T045956Z
UID:11188-1765047600-1765063800@events.bonjourpondicherry.in
SUMMARY:TALK OF THE TOWN - AMITY NIGHTLIFE
DESCRIPTION:🔥 TALK OF THE TOWN — THIS SATURDAY AT AMITY! 🔥 \nGet ready\, Pondy! The most happening Saturday night is here\, and it’s all set to take over the city with pure energy\, music\, and good vibes only! 🎉✨ \nThis 06th December\, Amity Taproom & Nightlife brings you the ultimate weekend mood-lifter — TALK OF THE TOWN\, featuring the sensational DJ Eskay\, spinning the best commercial\, Bollywood\, and high-energy mixes to keep you on the floor all night long! 🎧💥 \n✨ WHAT’S HAPPENING TONIGHT? \n💃 FREE Shooters for Ladies \n🕖 Doors Open at 7 PM \n👩‍❤️‍👨 Free Entry for Girls & Couples till 8 PM \n👦 Cover Charge Applicable for Stags \n🎵 Non-stop music\, explosive beats & a party vibe you can’t miss! \nWhether you’re coming with your squad or your special someone\, tonight’s the perfect plan to light up your weekend. Bring your energy\, bring your vibe\, and let’s make this night unforgettable! 🌙🔥 \n📍 Amity Taproom & Nightlife\, Puducherry\n📞 RSVP: 63827 65446 | 89397 98002 \n#AmityNightlife #TalkOfTheTown #PondyEvents #PuducherryNightlife #WeekendMood #PartyTonight #DJNight #GoodVibesOnly #PondyParty #AmityTaproom #SaturdayNightFever #LiveDJ #PartyWithUs #PondicherryEve #MusicAndMadness #BonjourPondicherry
URL:https://events.bonjourpondicherry.in/event/talk-of-the-town-amity-nightlife/
LOCATION:Amity Nightlife\, Amity Sky Bistro\, 18\, 45Ft road\, Vallalar Salai Rd\, Puducherry\, 605011\, Puducherry\,\, 605011\, India
ATTACH;FMTTYPE=image/jpeg:https://events.bonjourpondicherry.in/wp-content/uploads/2025/12/IMG-20251205-WA0061.jpg
END:VEVENT
END:VCALENDAR