BEGIN:VCALENDAR
VERSION:2.0
PRODID:-//Bonjour Pondichérry ™ - ECPv6.13.2.1//NONSGML v1.0//EN
CALSCALE:GREGORIAN
METHOD:PUBLISH
X-WR-CALNAME:Bonjour Pondichérry ™
X-ORIGINAL-URL:https://events.bonjourpondicherry.in
X-WR-CALDESC:Events for Bonjour Pondichérry ™
REFRESH-INTERVAL;VALUE=DURATION:PT1H
X-Robots-Tag:noindex
X-PUBLISHED-TTL:PT1H
BEGIN:VTIMEZONE
TZID:Asia/Kolkata
BEGIN:STANDARD
TZOFFSETFROM:+0530
TZOFFSETTO:+0530
TZNAME:IST
DTSTART:20260101T000000
END:STANDARD
END:VTIMEZONE
BEGIN:VEVENT
DTSTART;TZID=Asia/Kolkata:20260104T190000
DTEND;TZID=Asia/Kolkata:20260104T233000
DTSTAMP:20260420T023829
CREATED:20260102T075643Z
LAST-MODIFIED:20260102T080733Z
UID:11490-1767553200-1767569400@events.bonjourpondicherry.in
SUMMARY:SOULFUL SUNDAY - AMITY SKY BISTRO
DESCRIPTION:Soulful Sunday – Live Music Evening at Amity Family Sky Bistro \nUnwind your weekend on a melodic note at Amity Family Sky Bistro with Soulful Sunday\, a warm and relaxing live music evening featuring Dheebi & Vicky. Set against a cozy rooftop ambience\, enjoy soothing vocals and acoustic melodies that pair perfectly with great food\, refreshing drinks\, and a calm Sunday vibe. \nWhether you’re spending quality time with family or catching up with friends\, this evening promises music that touches the heart and an atmosphere that lets you slow down and enjoy the moment. \n🗓 Sunday\, 04th January🕖 7 PM onwards📍 Amity Family Sky Bistro\, Pondicherry📞 RSVP: 6382765446 | 8939798002 \n#AmitySkyBistro #SoulfulSunday #LiveMusicPondicherry #DheebiAndVicky #PondyEvents #SkyBistroVibes  #PondicherryNights #BonjourPondicherry #WeekendVibes  🎶✨
URL:https://events.bonjourpondicherry.in/event/soulful-sunday-amity-sky-bistro-5/
LOCATION:Amity Family Sky Bistro\, 18\, 45Ft Road\, Vallalar Salai Rd\, Pondicherry\, Pondicherry\, India
ATTACH;FMTTYPE=image/jpeg:https://events.bonjourpondicherry.in/wp-content/uploads/2026/01/20260104-Sunday-Sky-Bistro-1.jpeg
END:VEVENT
END:VCALENDAR