BEGIN:VCALENDAR
VERSION:2.0
PRODID:-//Bonjour Pondichérry ™ - ECPv6.13.2.1//NONSGML v1.0//EN
CALSCALE:GREGORIAN
METHOD:PUBLISH
X-WR-CALNAME:Bonjour Pondichérry ™
X-ORIGINAL-URL:https://events.bonjourpondicherry.in
X-WR-CALDESC:Events for Bonjour Pondichérry ™
REFRESH-INTERVAL;VALUE=DURATION:PT1H
X-Robots-Tag:noindex
X-PUBLISHED-TTL:PT1H
BEGIN:VTIMEZONE
TZID:Asia/Kolkata
BEGIN:STANDARD
TZOFFSETFROM:+0530
TZOFFSETTO:+0530
TZNAME:IST
DTSTART:20260101T000000
END:STANDARD
END:VTIMEZONE
BEGIN:VEVENT
DTSTART;TZID=Asia/Kolkata:20260111T160000
DTEND;TZID=Asia/Kolkata:20260111T233000
DTSTAMP:20260420T010114
CREATED:20260110T052312Z
LAST-MODIFIED:20260110T052312Z
UID:11575-1768147200-1768174200@events.bonjourpondicherry.in
SUMMARY:SOCIAL CLUB SUNDAY - FLAMING DRAGONS
DESCRIPTION:🔥 SOCIAL CLUB SUNDAY AT FLAMING DRAGONS 🔥 \nGet ready to rewind the vibes and turn up your Sunday night at Flaming Dragons Lounge & NightlifeA perfect blend of retro energy\, club beats\, and unbeatable drink offers awaits you. \n🎧 Featuring DJ BOTGroove to high-energy mixes and crowd-favourite tracks that keep the dance floor alive all night. \n🗓 11th January | Sunday \n⏰ Happy Hours: 4 PM to 8 PM🍹 25% OFF on Drinks Bill \nWhether you’re here to chill\, dance\, or celebrate with friends\, Social Club Sunday is where your weekend ends on a high note. \n📍 Flaming Dragons\, Pondicherry#7\, Labourdonnais St\, White Town\, Puducherry – 605001 \n📞 RSVP: 8939798002 | 8428741617 \nTurn your Sunday into a night to remember — only at Flaming Dragons. \n#FlamingDragons #SocialClubSunday #NightlifePondy #BonjourPondicherry
URL:https://events.bonjourpondicherry.in/event/social-club-sunday-flaming-dragons/
LOCATION:Flaming Dragons Lounge and Nightlife\, Flaming Dragons\, 7\, Labourdonnais St\, Puducherry\, Puducherry\, Puducherry\, 605001\, India
ATTACH;FMTTYPE=image/jpeg:https://events.bonjourpondicherry.in/wp-content/uploads/2026/01/20260111-Flamings-Sunday.jpg
END:VEVENT
END:VCALENDAR