BEGIN:VCALENDAR
VERSION:2.0
PRODID:-//Bonjour Pondichérry ™ - ECPv6.13.2.1//NONSGML v1.0//EN
CALSCALE:GREGORIAN
METHOD:PUBLISH
X-WR-CALNAME:Bonjour Pondichérry ™
X-ORIGINAL-URL:https://events.bonjourpondicherry.in
X-WR-CALDESC:Events for Bonjour Pondichérry ™
REFRESH-INTERVAL;VALUE=DURATION:PT1H
X-Robots-Tag:noindex
X-PUBLISHED-TTL:PT1H
BEGIN:VTIMEZONE
TZID:Asia/Kolkata
BEGIN:STANDARD
TZOFFSETFROM:+0530
TZOFFSETTO:+0530
TZNAME:IST
DTSTART:20260101T000000
END:STANDARD
END:VTIMEZONE
BEGIN:VEVENT
DTSTART;TZID=Asia/Kolkata:20260117T190000
DTEND;TZID=Asia/Kolkata:20260117T233000
DTSTAMP:20260421T135655
CREATED:20260113T061428Z
LAST-MODIFIED:20260113T061428Z
UID:11646-1768676400-1768692600@events.bonjourpondicherry.in
SUMMARY:SATURDAY NIGHT MADNESS - AMITY NIGHTLIFE
DESCRIPTION:SATURDAY NIGHT MADNESS at AMITY TAPROOM & NIGHTLIFE \nGet ready for a high-octane Saturday night packed with powerful beats and unstoppable party energy.This weekend\, Amity turns up the volume takes over the decks\, delivering a premium nightlife experience that keeps the dance floor alive all night long. \nExpect heavy drops\, crowd-moving music\, and a vibe that defines Saturday nights at Amity. \n🎧 Featuring: DJ BBLN📅 17th January | Saturday🕖 7:00 PM onwards🎉 Limited Entries | Premium Party | VIP Tables Available \nMake your Saturday count with music\, energy\, and an unforgettable night. \n📍 Amity Taproom & Nightlife\, Pondicherry📞 RSVP: 63827 65446 | 89397 98002 \n#AmityTaproom #SaturdayNightMadness #DJBbln #SaturdayVibes #WeekendParty #AmityNightlife #PondyNightlife #VIPTables #PartyAtAmity #BonjourPondicherry
URL:https://events.bonjourpondicherry.in/event/saturday-night-madness-amity-nightlife/
LOCATION:Amity Nightlife\, Amity Sky Bistro\, 18\, 45Ft road\, Vallalar Salai Rd\, Puducherry\, 605011\, Puducherry\,\, 605011\, India
ATTACH;FMTTYPE=image/jpeg:https://events.bonjourpondicherry.in/wp-content/uploads/2026/01/17th-Sat.jpg
END:VEVENT
END:VCALENDAR