BEGIN:VCALENDAR
VERSION:2.0
PRODID:-//Bonjour Pondichérry ™ - ECPv6.13.2.1//NONSGML v1.0//EN
CALSCALE:GREGORIAN
METHOD:PUBLISH
X-WR-CALNAME:Bonjour Pondichérry ™
X-ORIGINAL-URL:https://events.bonjourpondicherry.in
X-WR-CALDESC:Events for Bonjour Pondichérry ™
REFRESH-INTERVAL;VALUE=DURATION:PT1H
X-Robots-Tag:noindex
X-PUBLISHED-TTL:PT1H
BEGIN:VTIMEZONE
TZID:Asia/Kolkata
BEGIN:STANDARD
TZOFFSETFROM:+0530
TZOFFSETTO:+0530
TZNAME:IST
DTSTART:20250101T000000
END:STANDARD
END:VTIMEZONE
BEGIN:VEVENT
DTSTART;TZID=Asia/Kolkata:20251207T190000
DTEND;TZID=Asia/Kolkata:20251207T233000
DTSTAMP:20260420T150159
CREATED:20251206T060451Z
LAST-MODIFIED:20251206T060451Z
UID:11202-1765134000-1765150200@events.bonjourpondicherry.in
SUMMARY:REGIONAL NIGHT - AMITY NIGHTLIFE
DESCRIPTION:🔥 REGIONAL NIGHT — THIS SUNDAY AT AMITY TAPROOM & NIGHTLIFE! 🔥 \nGet ready for a power-packed Regional Night featuring Kicks — bringing the best of Kollywood\, Bollywood\, Tollywood & Mollywood straight to the dancefloor! 💃🕺 \n✨ SPECIALS TONIGHT🍹 FREE Shooters for Ladies🎉 Free Entry for Girls & Couples till 8 PM💥 Full Cover Charge Applicable for Stags🎧 DJ Kicks spinning regional hits all night \nGather your gang\, dress sharp\, and set the floor on fire with non-stop regional grooves. It’s Sunday — let’s make it unforgettable! 🔥🎶 \n📍 Amity Taproom & Nightlife\, Puducherry🗓️ 07th Dec\, Sunday📞 RSVP: 63827 65446 | 89397 98002 \n#AmityNightlife #RegionalNight #PondicherryNights #DJKicks #PartyInPondy #LadiesNight #PondyNightlife #WeekendVibes #BollywoodNight #KollywoodHits #TollywoodBeats #MollywoodMusic #PondyPartyMode 🎉✨
URL:https://events.bonjourpondicherry.in/event/regional-night-amity-nightlife-2/
LOCATION:Amity Nightlife\, Amity Sky Bistro\, 18\, 45Ft road\, Vallalar Salai Rd\, Puducherry\, 605011\, Puducherry\,\, 605011\, India
ATTACH;FMTTYPE=image/jpeg:https://events.bonjourpondicherry.in/wp-content/uploads/2025/12/Sunday-01-scaled.jpg
END:VEVENT
END:VCALENDAR