BEGIN:VCALENDAR
VERSION:2.0
PRODID:-//Bonjour Pondichérry ™ - ECPv6.13.2.1//NONSGML v1.0//EN
CALSCALE:GREGORIAN
METHOD:PUBLISH
X-WR-CALNAME:Bonjour Pondichérry ™
X-ORIGINAL-URL:https://events.bonjourpondicherry.in
X-WR-CALDESC:Events for Bonjour Pondichérry ™
REFRESH-INTERVAL;VALUE=DURATION:PT1H
X-Robots-Tag:noindex
X-PUBLISHED-TTL:PT1H
BEGIN:VTIMEZONE
TZID:Asia/Kolkata
BEGIN:STANDARD
TZOFFSETFROM:+0530
TZOFFSETTO:+0530
TZNAME:IST
DTSTART:20260101T000000
END:STANDARD
END:VTIMEZONE
BEGIN:VEVENT
DTSTART;TZID=Asia/Kolkata:20260114T190000
DTEND;TZID=Asia/Kolkata:20260114T233000
DTSTAMP:20260419T231544
CREATED:20260112T125957Z
LAST-MODIFIED:20260112T125957Z
UID:11613-1768417200-1768433400@events.bonjourpondicherry.in
SUMMARY:PRIVILEGE WEDNESDAY - AMITY NIGHTLIFE
DESCRIPTION:PRIVILEGE WEDNESDAY at Amity Taproom & Nightlife \nMidweek nights deserve something special.This Wednesday\, step into a cosmic vibe at Amity Taproom & Nightlife with Privilege Wednesday\, featuring our Resident DJ spinning the perfect mix to keep your night alive. \nEnjoy great music\, signature drinks\, and an exclusive 30% OFF on all bottles\, making your Wednesday the highlight of the week. \n🕖 7:00 PM onwards📍 Amity Taproom & Nightlife\, Pondicherry \nTurn your ordinary Wednesday into a privilege.See you at AMITY. \n#Amity #PrivilegeWednesday #AmityNightlife #MidweekVibes #ResidentDJ #PondyNightlife #TaproomVibes #PartyInPondicherry #NightlifeExperience #BottleOffers #BonjourPondicherry
URL:https://events.bonjourpondicherry.in/event/privilege-wednesday-amity-nightlife/
LOCATION:Amity Nightlife\, Amity Sky Bistro\, 18\, 45Ft road\, Vallalar Salai Rd\, Puducherry\, 605011\, Puducherry\,\, 605011\, India
ATTACH;FMTTYPE=image/jpeg:https://events.bonjourpondicherry.in/wp-content/uploads/2026/01/14-wed-scaled.jpg
END:VEVENT
END:VCALENDAR