BEGIN:VCALENDAR
VERSION:2.0
PRODID:-//Bonjour Pondichérry ™ - ECPv6.13.2.1//NONSGML v1.0//EN
CALSCALE:GREGORIAN
METHOD:PUBLISH
X-WR-CALNAME:Bonjour Pondichérry ™
X-ORIGINAL-URL:https://events.bonjourpondicherry.in
X-WR-CALDESC:Events for Bonjour Pondichérry ™
REFRESH-INTERVAL;VALUE=DURATION:PT1H
X-Robots-Tag:noindex
X-PUBLISHED-TTL:PT1H
BEGIN:VTIMEZONE
TZID:Asia/Kolkata
BEGIN:STANDARD
TZOFFSETFROM:+0530
TZOFFSETTO:+0530
TZNAME:IST
DTSTART:20260101T000000
END:STANDARD
END:VTIMEZONE
BEGIN:VEVENT
DTSTART;TZID=Asia/Kolkata:20260101T180000
DTEND;TZID=Asia/Kolkata:20260101T233000
DTSTAMP:20260420T043214
CREATED:20251231T153412Z
LAST-MODIFIED:20251231T153412Z
UID:11456-1767290400-1767310200@events.bonjourpondicherry.in
SUMMARY:NEW YEAR NIGHT - FLAMING DRAGONS
DESCRIPTION:🔥 FLAMING DRAGONS — NEW YEAR NIGHT 🔥 \nStep into the New Year with unbeatable vibes\, electrifying music\, and flowing drinks at Flaming Dragons. Celebrate the night where great beats meet great brews and the party never slows down. \n🍻 1+1 ON BEER — double the cheers\, double the fun\n🎧 Resident DJ spinning high-energy party tracks\n🕺 Free walk-in for stags\, girls & couples\n✨ A perfect New Year kick-off with music\, drinks\, and nonstop nightlife energy \n📍 Flaming Dragons\, Pondicherry\n🕕 01st Thursday | 6 PM onwards\n📞 RSVP: 8939798002\, 8428741617 \nRing in the New Year the Flaming Dragons way — bold\, loud\, and unforgettable. \n#FlamingDragons #NewYearNight #PondicherryNightlife #PartyInPondy #NewYearCelebration #ResidentDJ #BeerOffers #NightclubVibes #CelebrateInStyle #FlamingDragonsPondicherry #BonjourPondicherry
URL:https://events.bonjourpondicherry.in/event/new-year-night-flaming-dragons/
LOCATION:Flaming Dragons Lounge and Nightlife\, Flaming Dragons\, 7\, Labourdonnais St\, Puducherry\, Puducherry\, Puducherry\, 605001\, India
ATTACH;FMTTYPE=image/jpeg:https://events.bonjourpondicherry.in/wp-content/uploads/2025/12/20260101-Thursday-Flaming-Dragons-1.jpeg
END:VEVENT
END:VCALENDAR