BEGIN:VCALENDAR
VERSION:2.0
PRODID:-//Bonjour Pondichérry ™ - ECPv6.13.2.1//NONSGML v1.0//EN
CALSCALE:GREGORIAN
METHOD:PUBLISH
X-WR-CALNAME:Bonjour Pondichérry ™
X-ORIGINAL-URL:https://events.bonjourpondicherry.in
X-WR-CALDESC:Events for Bonjour Pondichérry ™
REFRESH-INTERVAL;VALUE=DURATION:PT1H
X-Robots-Tag:noindex
X-PUBLISHED-TTL:PT1H
BEGIN:VTIMEZONE
TZID:Asia/Kolkata
BEGIN:STANDARD
TZOFFSETFROM:+0530
TZOFFSETTO:+0530
TZNAME:IST
DTSTART:20260101T000000
END:STANDARD
END:VTIMEZONE
BEGIN:VEVENT
DTSTART;TZID=Asia/Kolkata:20260105T190000
DTEND;TZID=Asia/Kolkata:20260105T220000
DTSTAMP:20260420T022925
CREATED:20260106T041347Z
LAST-MODIFIED:20260106T041347Z
UID:11508-1767639600-1767650400@events.bonjourpondicherry.in
SUMMARY:MOOD SET MONDAY - AMITY NIGHTLIFE
DESCRIPTION:Step into the night with Mood Set Monday at AMITY Taproom & NightlifeLet the beats align your vibe as our Resident DJ takes over the decks and sets the perfect tone for your Monday night. \nEnjoy 1+1 on pints during crashing hours from 7 PM to 10 PM and ease into the week with great music\, great pours\, and unmatched nightlife energy. \n🗓 05th January🕖 7 PM onwards📍 Amity Taproom & Nightlife\, Pondicherry \n#MoodSetMonday #AmityNightlife #AmityTaproom #PondicherryNightlife #ResidentDJ #MondayVibes #NightlifePondy #PartyInPondy #BonjourPondicherry
URL:https://events.bonjourpondicherry.in/event/mood-set-monday-amity-nightlife/
LOCATION:Amity Nightlife\, Amity Sky Bistro\, 18\, 45Ft road\, Vallalar Salai Rd\, Puducherry\, 605011\, Puducherry\,\, 605011\, India
ATTACH;FMTTYPE=image/jpeg:https://events.bonjourpondicherry.in/wp-content/uploads/2026/01/Nightlife-Mon-poster.jpg
END:VEVENT
END:VCALENDAR