BEGIN:VCALENDAR
VERSION:2.0
PRODID:-//Bonjour Pondichérry ™ - ECPv6.13.2.1//NONSGML v1.0//EN
CALSCALE:GREGORIAN
METHOD:PUBLISH
X-WR-CALNAME:Bonjour Pondichérry ™
X-ORIGINAL-URL:https://events.bonjourpondicherry.in
X-WR-CALDESC:Events for Bonjour Pondichérry ™
REFRESH-INTERVAL;VALUE=DURATION:PT1H
X-Robots-Tag:noindex
X-PUBLISHED-TTL:PT1H
BEGIN:VTIMEZONE
TZID:Asia/Kolkata
BEGIN:STANDARD
TZOFFSETFROM:+0530
TZOFFSETTO:+0530
TZNAME:IST
DTSTART:20260101T000000
END:STANDARD
END:VTIMEZONE
BEGIN:VEVENT
DTSTART;TZID=Asia/Kolkata:20260110T190000
DTEND;TZID=Asia/Kolkata:20260110T233000
DTSTAMP:20260420T010052
CREATED:20260109T102255Z
LAST-MODIFIED:20260109T102255Z
UID:11564-1768071600-1768087800@events.bonjourpondicherry.in
SUMMARY:HOUSE OF DRAGONS NIGHT - FLAMING DRAGONS
DESCRIPTION:FLAMING DRAGONS — HOUSE OF DRAGONS NIGHT 🔥 \nTurn up the heat this Saturday at Flaming Dragons as the decks ignite with DJ KICKS bringing high-voltage beats\, pulsating bass\, and unstoppable party energy. 🎧🔥From fiery vibes to packed dance floors\, this is where Pondicherry’s nightlife comes alive with power\, music\, and madness. 🍸💃 \n✨ Free entry for couples & girls🥂 Free shooters for ladies till 10 PM🔥 Premium club vibes | Non-stop party energy \n🗓 Saturday\, 10th Jan🕘 7 PM onwards📍 Flaming Dragons\, #7\, Labourdonnais St\, Puducherry📞 RSVP: 8939798002 | 8428741617 \nStep into the House of Dragons and own the night — only at Flaming Dragons. \n#FlamingDragons #HouseOfDragonsNight #DJKicks #PuducherryNightlife #SaturdayParty #ClubNight #NightlifeVibes #PartyInPondy #WeekendMadness #DanceFloorEnergy #BonjourPondicherry
URL:https://events.bonjourpondicherry.in/event/house-of-dragons-night-flaming-dragons-2/
LOCATION:Flaming Dragons Lounge and Nightlife\, Flaming Dragons\, 7\, Labourdonnais St\, Puducherry\, Puducherry\, Puducherry\, 605001\, India
ATTACH;FMTTYPE=image/jpeg:https://events.bonjourpondicherry.in/wp-content/uploads/2026/01/20260110-Saturday.jpg
END:VEVENT
END:VCALENDAR