BEGIN:VCALENDAR
VERSION:2.0
PRODID:-//Bonjour Pondichérry ™ - ECPv6.13.2.1//NONSGML v1.0//EN
CALSCALE:GREGORIAN
METHOD:PUBLISH
X-WR-CALNAME:Bonjour Pondichérry ™
X-ORIGINAL-URL:https://events.bonjourpondicherry.in
X-WR-CALDESC:Events for Bonjour Pondichérry ™
REFRESH-INTERVAL;VALUE=DURATION:PT1H
X-Robots-Tag:noindex
X-PUBLISHED-TTL:PT1H
BEGIN:VTIMEZONE
TZID:Asia/Kolkata
BEGIN:STANDARD
TZOFFSETFROM:+0530
TZOFFSETTO:+0530
TZNAME:IST
DTSTART:20250101T000000
END:STANDARD
END:VTIMEZONE
BEGIN:VEVENT
DTSTART;TZID=Asia/Kolkata:20251226T190000
DTEND;TZID=Asia/Kolkata:20251226T233000
DTSTAMP:20260420T080433
CREATED:20251226T055423Z
LAST-MODIFIED:20251226T055654Z
UID:11389-1766775600-1766791800@events.bonjourpondicherry.in
SUMMARY:GOLDEN HOUR GROOVES - AMITY SKY BISTRO
DESCRIPTION:🔥 GOLDEN HOUR GROOVES — LIVE AT AMITY SKY BISTRO 🔥 \nExperience an unforgettable musical evening as Sharan and Sagesh take over the skyline with soulful vocals\, vibrant rhythms\, and a live ambiance that perfectly captures the magic of the golden hour. \nJoin us this 26th December for a night filled with timeless melodies\, upbeat performances\, and a relaxed rooftop vibe designed to help you unwind and enjoy every moment. Whether you’re coming with family or friends\, this is the perfect mid-week musical escape. \nWhat to expect:\n– Live music by Sharan and Sagesh\n– Soothing golden-hour ambience\n– Great food\, city views\, and refreshing drinks\n– A warm and welcoming family-friendly atmosphere \n📅 26th December\n🕖 7 PM onwards\n📍 Amity Family Sky Bistro\, Puducherry\n📞 RSVP: 63827 65446 | 89397 98002 \nLet the music elevate your evening. Immerse yourself in soulful grooves under the open sky. \n#AmitySkyBistro #GoldenHourGrooves #DheebiandVicky #PondicherryEvents #LiveMusicNight #SkylineDining #PondyVibes #MusicEvening #PuducherryNightlife #AmityExperience #BonjourPondicherry
URL:https://events.bonjourpondicherry.in/event/golden-hour-grooves-amity-sky-bistro-7/
LOCATION:Amity Family Sky Bistro\, 18\, 45Ft Road\, Vallalar Salai Rd\, Pondicherry\, Pondicherry\, India
ATTACH;FMTTYPE=image/jpeg:https://events.bonjourpondicherry.in/wp-content/uploads/2025/12/Friday-01-scaled.jpg
END:VEVENT
END:VCALENDAR