BEGIN:VCALENDAR
VERSION:2.0
PRODID:-//Bonjour Pondichérry ™ - ECPv6.13.2.1//NONSGML v1.0//EN
CALSCALE:GREGORIAN
METHOD:PUBLISH
X-WR-CALNAME:Bonjour Pondichérry ™
X-ORIGINAL-URL:https://events.bonjourpondicherry.in
X-WR-CALDESC:Events for Bonjour Pondichérry ™
REFRESH-INTERVAL;VALUE=DURATION:PT1H
X-Robots-Tag:noindex
X-PUBLISHED-TTL:PT1H
BEGIN:VTIMEZONE
TZID:Asia/Kolkata
BEGIN:STANDARD
TZOFFSETFROM:+0530
TZOFFSETTO:+0530
TZNAME:IST
DTSTART:20250101T000000
END:STANDARD
END:VTIMEZONE
BEGIN:VEVENT
DTSTART;TZID=Asia/Kolkata:20251212T190000
DTEND;TZID=Asia/Kolkata:20251212T233000
DTSTAMP:20260420T132753
CREATED:20251211T051506Z
LAST-MODIFIED:20251212T043625Z
UID:11248-1765566000-1765582200@events.bonjourpondicherry.in
SUMMARY:GOLDEN HOUR GROOVES - AMITY SKY BISTRO
DESCRIPTION:🔥 GOLDEN HOUR GROOVES — LIVE AT AMITY SKY BISTRO 🔥 \nExperience an unforgettable musical evening as Jordan & Band take over the skyline with soulful vocals\, vibrant rhythms\, and a live ambiance that perfectly captures the magic of the golden hour. \nJoin us this 12th December for a night filled with timeless melodies\, upbeat performances\, and a relaxed rooftop vibe designed to help you unwind and enjoy every moment. Whether you’re coming with family or friends\, this is the perfect mid-week musical escape. \nWhat to expect:– Live music by Jordan & Band– Soothing golden-hour ambience– Great food\, city views\, and refreshing drinks– A warm and welcoming family-friendly atmosphere \n📅 12th December🕖 7 PM onwards📍 Amity Family Sky Bistro\, Puducherry📞 RSVP: 63827 65446 | 89397 98002 \nLet the music elevate your evening. Immerse yourself in soulful grooves under the open sky. \n#AmitySkyBistro #GoldenHourGrooves #JordanAndBand #PondicherryEvents #LiveMusicNight #SkylineDining #PondyVibes #MusicEvening #PuducherryNightlife #AmityExperience #BonjourPondicherry
URL:https://events.bonjourpondicherry.in/event/golden-hour-grooves-amity-sky-bistro-5/
LOCATION:Amity Family Sky Bistro\, 18\, 45Ft Road\, Vallalar Salai Rd\, Pondicherry\, Pondicherry\, India
ATTACH;FMTTYPE=image/jpeg:https://events.bonjourpondicherry.in/wp-content/uploads/2025/12/20251212-Friday-Amity-Sky-Bistro-2-scaled.jpg
END:VEVENT
END:VCALENDAR