BEGIN:VCALENDAR
VERSION:2.0
PRODID:-//Bonjour Pondichérry ™ - ECPv6.13.2.1//NONSGML v1.0//EN
CALSCALE:GREGORIAN
METHOD:PUBLISH
X-WR-CALNAME:Bonjour Pondichérry ™
X-ORIGINAL-URL:https://events.bonjourpondicherry.in
X-WR-CALDESC:Events for Bonjour Pondichérry ™
REFRESH-INTERVAL;VALUE=DURATION:PT1H
X-Robots-Tag:noindex
X-PUBLISHED-TTL:PT1H
BEGIN:VTIMEZONE
TZID:Asia/Kolkata
BEGIN:STANDARD
TZOFFSETFROM:+0530
TZOFFSETTO:+0530
TZNAME:IST
DTSTART:20250101T000000
END:STANDARD
END:VTIMEZONE
BEGIN:VEVENT
DTSTART;TZID=Asia/Kolkata:20251210T183000
DTEND;TZID=Asia/Kolkata:20251210T233000
DTSTAMP:20260420T132914
CREATED:20251210T045922Z
LAST-MODIFIED:20251210T045922Z
UID:11234-1765391400-1765409400@events.bonjourpondicherry.in
SUMMARY:GIRLS NIGHTOUT - AMITY NIGHTLIFE
DESCRIPTION:GIRL’S NIGHT OUT — AMITY Taproom & Nightlife \nGet ready to turn up the vibe this December 11th with Girl’s Night Out at AMITY Taproom & Nightlife — Puducherry’s most electrifying destination for music\, mocktails\, and unforgettable moments. \nFeaturing DJ KICKS Let the beats drop as DJ KICKS takes over the night with high-energy tracks and dancefloor magic. \nEvent Timing: Starts at 6:30 PM onwards — arrive early and make the most of the night! \nSpecial Offers: \nFree entry for girls and couples till 8 PM\n20% off for doctors — because heroes deserve to unwind\nFull cover charge applicable for stags — plan accordingly! \nVenue: AMITY Taproom & Nightlife 18\, 45Ft Road\, Vallalar Salai Rd\, Puducherry – 605001 \nRSVP Now: 63827 65446 | 89397 98002 \nWhether you’re dancing with your squad or sipping mocktails with your partner\, this is your night to shine. Come for the music\, stay for the memories. \n#GirlsNightOut #AmityTaproom #PondyEvents #DJKicks #PuducherryNightlife #LadiesNight #TaproomVibes #AmityNightlife #BonjourPondicherry
URL:https://events.bonjourpondicherry.in/event/girls-nightout-amity-nightlife/
LOCATION:Amity Nightlife\, Amity Sky Bistro\, 18\, 45Ft road\, Vallalar Salai Rd\, Puducherry\, 605011\, Puducherry\,\, 605011\, India
ATTACH;FMTTYPE=image/jpeg:https://events.bonjourpondicherry.in/wp-content/uploads/2025/12/20251211-Thursday-Nightlife.jpg
END:VEVENT
END:VCALENDAR