BEGIN:VCALENDAR
VERSION:2.0
PRODID:-//Bonjour Pondichérry ™ - ECPv6.13.2.1//NONSGML v1.0//EN
CALSCALE:GREGORIAN
METHOD:PUBLISH
X-WR-CALNAME:Bonjour Pondichérry ™
X-ORIGINAL-URL:https://events.bonjourpondicherry.in
X-WR-CALDESC:Events for Bonjour Pondichérry ™
REFRESH-INTERVAL;VALUE=DURATION:PT1H
X-Robots-Tag:noindex
X-PUBLISHED-TTL:PT1H
BEGIN:VTIMEZONE
TZID:Asia/Kolkata
BEGIN:STANDARD
TZOFFSETFROM:+0530
TZOFFSETTO:+0530
TZNAME:IST
DTSTART:20250101T000000
END:STANDARD
END:VTIMEZONE
BEGIN:VEVENT
DTSTART;TZID=Asia/Kolkata:20251204T183000
DTEND;TZID=Asia/Kolkata:20251204T233000
DTSTAMP:20260422T200204
CREATED:20251203T062523Z
LAST-MODIFIED:20251203T062523Z
UID:11162-1764873000-1764891000@events.bonjourpondicherry.in
SUMMARY:GIRLS NIGHT OUT - AMITY NIGHTLIFE
DESCRIPTION:Girl’s Night Out – AMITY Taproom & Nightlife Puducherry’s nightlife just got a whole lot louder\, bolder\, and more unforgettable. This 04th December\, gather your crew and head to AMITY Taproom & Nightlife for a sensational evening curated for the ladies and couples who love to party in style. \nFree Entry for Girls & Couples till 8 PM Full Cover Charge for Stags – arrive early or arrive ready 20% Off for Doctors – we salute your service Live Set by DJ Kicks – spinning high-energy tracks from 6:30 PM onwards \nVenue: 18\, 45ft Road\, Vallalar Salai Rd\, Puducherry – 605011 RSVP: 63827 65446 | 89397 98002 \nWhether you’re celebrating friendship\, dancing into the weekend\, or just craving a vibrant night out\, AMITY delivers the beats\, the vibe\, and the crowd. \nDress to impress. Dance like nobody’s watching. #GirlsNightOut #AmityTaproom #DJNight #PondicherryEvents #AuroVibes #ShangaNights #PartyWithPurpose #DoctorDiscount #CouplesWelcome #NightlifeInPondy
URL:https://events.bonjourpondicherry.in/event/girls-night-out-amity-nightlife-4/
LOCATION:Amity Nightlife\, Amity Sky Bistro\, 18\, 45Ft road\, Vallalar Salai Rd\, Puducherry\, 605011\, Puducherry\,\, 605011\, India
ATTACH;FMTTYPE=image/jpeg:https://events.bonjourpondicherry.in/wp-content/uploads/2025/12/20251204-Thursday-Nightlife.jpg
END:VEVENT
END:VCALENDAR