BEGIN:VCALENDAR
VERSION:2.0
PRODID:-//Bonjour Pondichérry ™ - ECPv6.13.2.1//NONSGML v1.0//EN
CALSCALE:GREGORIAN
METHOD:PUBLISH
X-WR-CALNAME:Bonjour Pondichérry ™
X-ORIGINAL-URL:https://events.bonjourpondicherry.in
X-WR-CALDESC:Events for Bonjour Pondichérry ™
REFRESH-INTERVAL;VALUE=DURATION:PT1H
X-Robots-Tag:noindex
X-PUBLISHED-TTL:PT1H
BEGIN:VTIMEZONE
TZID:Asia/Kolkata
BEGIN:STANDARD
TZOFFSETFROM:+0530
TZOFFSETTO:+0530
TZNAME:IST
DTSTART:20250101T000000
END:STANDARD
END:VTIMEZONE
BEGIN:VEVENT
DTSTART;TZID=Asia/Kolkata:20251229T180000
DTEND;TZID=Asia/Kolkata:20251229T233000
DTSTAMP:20260420T061827
CREATED:20251229T051051Z
LAST-MODIFIED:20251229T051129Z
UID:11425-1767031200-1767051000@events.bonjourpondicherry.in
SUMMARY:FAMILY FEAST MONDAY - AMITY SKY BISTRO
DESCRIPTION:Family Feast Monday at AMITY Family Sky Bistro  Make your Mondays unforgettable with a heartwarming dining experience at AMITY Family Sky Bistro\, where tradition meets taste in a sky-high setting. This December 29th\, starting 6:00 PM onwards\, gather your loved ones for a flavorful evening that celebrates togetherness. \nWhat’s on the Menu: \nAuthentic Indian Cuisine: Indulge in rich curries\, fresh naan\, and aromatic spices served with elegance.\nFamily-First Atmosphere: Designed for bonding\, laughter\, and shared memories.\nSpecial Offer: Enjoy 15% OFF on family dining — because great meals are better together. \nVenue: 18\, 45FT Road\, Vallalar Salai Rd\, Puducherry – 605011 RSVP: 6382765446 | 8939798002 \nWhy Mondays Matter at AMITY: \nEscape the weekday rush and reconnect over a curated feast.\nExperience premium hospitality in a serene rooftop setting.\nCelebrate the joy of dining with those who matter most. \nFollow us for updates\, exclusive offers\, and upcoming themed nights. \n#AmitySkyBistro #FamilyFeastMonday #PuducherryDining #ShangoExperience #IndianCuisine #MondayMoments #FamilyDiningDeals #BonjourPondicherry
URL:https://events.bonjourpondicherry.in/event/family-feast-monday-amity-sky-bistro-8/
LOCATION:Amity Family Sky Bistro\, 18\, 45Ft Road\, Vallalar Salai Rd\, Pondicherry\, Pondicherry\, India
ATTACH;FMTTYPE=image/png:https://events.bonjourpondicherry.in/wp-content/uploads/2025/12/20251229-Monday-Sky-Bistro.png
END:VEVENT
END:VCALENDAR