BEGIN:VCALENDAR
VERSION:2.0
PRODID:-//Bonjour Pondichérry ™ - ECPv6.13.2.1//NONSGML v1.0//EN
CALSCALE:GREGORIAN
METHOD:PUBLISH
X-WR-CALNAME:Bonjour Pondichérry ™
X-ORIGINAL-URL:https://events.bonjourpondicherry.in
X-WR-CALDESC:Events for Bonjour Pondichérry ™
REFRESH-INTERVAL;VALUE=DURATION:PT1H
X-Robots-Tag:noindex
X-PUBLISHED-TTL:PT1H
BEGIN:VTIMEZONE
TZID:Asia/Kolkata
BEGIN:STANDARD
TZOFFSETFROM:+0530
TZOFFSETTO:+0530
TZNAME:IST
DTSTART:20250101T000000
END:STANDARD
END:VTIMEZONE
BEGIN:VEVENT
DTSTART;TZID=Asia/Kolkata:20251218T210000
DTEND;TZID=Asia/Kolkata:20251218T233000
DTSTAMP:20260420T095135
CREATED:20251217T132934Z
LAST-MODIFIED:20251217T132934Z
UID:11315-1766091600-1766100600@events.bonjourpondicherry.in
SUMMARY:CHILL AND GRILL THURSDAY - AMITY SKY BISTRO
DESCRIPTION:Chill & Grill Thursday at Amity Sky Bistro Get ready to fire up your Thursday nights with sizzling flavors and breezy vibes at Amity Family Sky Bistro! Join us on 18th December from 9:00 PM onwards for an unforgettable rooftop experience in the heart of Pondicherry. \nWhat’s on the grill? \nMouthwatering tandoori delights served fresh and hot\nVibrant mocktails to cool your spirit\nExclusive 10% OFF on all tandoor items and mocktails \nWhy Chill & Grill? Because you deserve to grill the stress and chill with freshness. Whether you’re winding down after a long week or kicking off the weekend early\, our sky-high ambiance and flavorful menu are here to elevate your mood. \nVenue: 18\, 45ft Road\, Vallalar Salai Rd\, Puducherry – 605011\nRSVP: 6382765446 | 8939798002\nDress Code: Come as you are\, leave with a smile. \nLet the aroma of grilled goodness and the rhythm of good vibes take over your Thursday. Tag your crew\, book your table\, and let’s make it a night to remember! \n#ChillAndGrill #AMITYSkyBistro #PondicherryEvents #Tandoori #ThursdayVibes #FreshFlavors #PondyHangouts #ElegantEvenings #BonjourPondicherry
URL:https://events.bonjourpondicherry.in/event/chill-and-grill-thursday-amity-sky-bistro-7/
LOCATION:Amity Family Sky Bistro\, 18\, 45Ft Road\, Vallalar Salai Rd\, Pondicherry\, Pondicherry\, India
ATTACH;FMTTYPE=image/png:https://events.bonjourpondicherry.in/wp-content/uploads/2025/12/20251218-Thursday-Sky-Bistro-1.png
END:VEVENT
END:VCALENDAR