BEGIN:VCALENDAR
VERSION:2.0
PRODID:-//Bonjour Pondichérry ™ - ECPv6.13.2.1//NONSGML v1.0//EN
CALSCALE:GREGORIAN
METHOD:PUBLISH
X-WR-CALNAME:Bonjour Pondichérry ™
X-ORIGINAL-URL:https://events.bonjourpondicherry.in
X-WR-CALDESC:Events for Bonjour Pondichérry ™
REFRESH-INTERVAL;VALUE=DURATION:PT1H
X-Robots-Tag:noindex
X-PUBLISHED-TTL:PT1H
BEGIN:VTIMEZONE
TZID:Asia/Kolkata
BEGIN:STANDARD
TZOFFSETFROM:+0530
TZOFFSETTO:+0530
TZNAME:IST
DTSTART:20250101T000000
END:STANDARD
END:VTIMEZONE
BEGIN:VEVENT
DTSTART;TZID=Asia/Kolkata:20251212T180000
DTEND;TZID=Asia/Kolkata:20251212T233000
DTSTAMP:20260420T132600
CREATED:20251211T050724Z
LAST-MODIFIED:20251211T050724Z
UID:11244-1765562400-1765582200@events.bonjourpondicherry.in
SUMMARY:BOLLYWOOD NIGHT - FLAMING DRAGONS
DESCRIPTION:🔥 FLAMING DRAGONS — BOLLYWOOD NIGHT 🔥 \nStep into a night of dazzling lights\, groovy desi beats\, and full-on Bollywood vibes as Flaming Dragons turns up the energy this Friday. Get ready to sing\, dance\, and party to the biggest hits while enjoying the electric nightlife atmosphere everyone loves. \nFeaturing the sensational DJ BOT\, spinning high-energy Bollywood tracks that will keep the floor packed from start to finish. Whether you’re coming with friends or rolling in solo\, it’s the perfect night to unwind\, dance\, and celebrate. \n✨ Free walk-in for stags\, girls\, and couples✨ A vibrant nightlife ambience you can’t miss✨ Non-stop Bollywood hits all evening \n📅 12th December | Friday🕘 6 PM onwards📍 Flaming Dragons\, #7\, Labourdonnais St\, White Town\, Puducherry📞 RSVP: 8939798002\, 8428741617 \nTurn your Friday into a blockbuster night at Flaming Dragons. \n#FlamingDragons #BollywoodNight #DJBot #PondyNightlife #PuducherryEvents #PartyInPondy #NightlifeVibes #WeekendPlans #DesiBeats #PondyParty #FridayNight #DanceFloorReady
URL:https://events.bonjourpondicherry.in/event/bollywood-night-flaming-dragons-6/
LOCATION:Flaming Dragons Lounge and Nightlife\, Flaming Dragons\, 7\, Labourdonnais St\, Puducherry\, Puducherry\, Puducherry\, 605001\, India
ATTACH;FMTTYPE=image/jpeg:https://events.bonjourpondicherry.in/wp-content/uploads/2025/12/20251212-Friday-Flaming-Dragons-1.jpeg
END:VEVENT
END:VCALENDAR