BEGIN:VCALENDAR
VERSION:2.0
PRODID:-//Bonjour Pondichérry ™ - ECPv6.13.2.1//NONSGML v1.0//EN
CALSCALE:GREGORIAN
METHOD:PUBLISH
X-WR-CALNAME:Bonjour Pondichérry ™
X-ORIGINAL-URL:https://events.bonjourpondicherry.in
X-WR-CALDESC:Events for Bonjour Pondichérry ™
REFRESH-INTERVAL;VALUE=DURATION:PT1H
X-Robots-Tag:noindex
X-PUBLISHED-TTL:PT1H
BEGIN:VTIMEZONE
TZID:Asia/Kolkata
BEGIN:STANDARD
TZOFFSETFROM:+0530
TZOFFSETTO:+0530
TZNAME:IST
DTSTART:20250101T000000
END:STANDARD
END:VTIMEZONE
BEGIN:VEVENT
DTSTART;TZID=Asia/Kolkata:20251205T180000
DTEND;TZID=Asia/Kolkata:20251205T233000
DTSTAMP:20260422T164251
CREATED:20251205T045124Z
LAST-MODIFIED:20251205T061136Z
UID:11170-1764957600-1764977400@events.bonjourpondicherry.in
SUMMARY:BOLLYWOOD NIGHT - FLAMING DRAGONS
DESCRIPTION:🔥 FLAMING DRAGONS — BOLLYWOOD NIGHT 🔥 \nTonight\, we’re bringing maximum drama\, dance\, and desi swag to Flaming Dragons! Step into a world of color\, glamour\, and full-on Bollywood energy as we transform your Friday night into a cinematic celebration. 🎬✨ \nFrom vibrant beats to retro nostalgia\, this night is all about reliving your favorite Bollywood moments while creating brand-new ones on the dance floor. Whether you’re a lover of old-school romance\, high-energy item numbers\, or new-age party tracks – DJ KICKS is ready to set the stage on fire! 🔥🎧 \n💃 Stunning ambience\n🕺 Non-stop Bollywood hits\n🎉 Perfect vibe to kickstart your weekend\n🍸 Drinks\, dance\, drama — everything you expect from a perfect Bollywood night! \nBring your crew\, dress like a star\, and get ready to groove till late. The Bollywood blockbuster party begins NOW! 🌟 \n📍 Flaming Dragons\, #7\, Labourdonnais St\, White Town\, Puducherry. 605001\n🕘 6.00 PM Onwards\n📞 RSVP: 8939798002\, 8428741617 \n#BollywoodNight #FlamingDragons #PondicherryNightlife #FridaySpecial #DJKicks #DesiParty #BollywoodVibes #PondyEvents #PartyInPondy #DanceNight #WeekendStarter #PartyModeOn #BollywoodBeats #NightlifeExperience #GoodVibesOnly #DesiSwag #MusicNight #PondyNightOut #BollywoodLove #EventTonight
URL:https://events.bonjourpondicherry.in/event/bollywood-night-flaming-dragons-5/
LOCATION:Flaming Dragons Lounge and Nightlife\, Flaming Dragons\, 7\, Labourdonnais St\, Puducherry\, Puducherry\, Puducherry\, 605001\, India
ATTACH;FMTTYPE=image/jpeg:https://events.bonjourpondicherry.in/wp-content/uploads/2025/12/WhatsApp-Image-2025-12-04-at-4.16.07-PM.jpeg
END:VEVENT
END:VCALENDAR