BEGIN:VCALENDAR
VERSION:2.0
PRODID:-//Bonjour Pondichérry ™ - ECPv6.13.2.1//NONSGML v1.0//EN
CALSCALE:GREGORIAN
METHOD:PUBLISH
X-WR-CALNAME:Bonjour Pondichérry ™
X-ORIGINAL-URL:https://events.bonjourpondicherry.in
X-WR-CALDESC:Events for Bonjour Pondichérry ™
REFRESH-INTERVAL;VALUE=DURATION:PT1H
X-Robots-Tag:noindex
X-PUBLISHED-TTL:PT1H
BEGIN:VTIMEZONE
TZID:Asia/Kolkata
BEGIN:STANDARD
TZOFFSETFROM:+0530
TZOFFSETTO:+0530
TZNAME:IST
DTSTART:20250101T000000
END:STANDARD
END:VTIMEZONE
BEGIN:VEVENT
DTSTART;TZID=Asia/Kolkata:20251228T200000
DTEND;TZID=Asia/Kolkata:20251228T233000
DTSTAMP:20260420T061540
CREATED:20251226T062000Z
LAST-MODIFIED:20251227T132757Z
UID:11402-1766952000-1766964600@events.bonjourpondicherry.in
SUMMARY:BOLLYTECH SUNDAY - FLAMING DRAGONS
DESCRIPTION:BOLLYTECH SUNDAY – Dec 28\, 6 PM Onwards at Flaming Dragons Pondicherry \nThis Sunday\, December 28th\, step into the spotlight at Flaming Dragons Pondicherry for an electrifying edition of BOLLYTECH SUNDAY—where Bollywood beats meet tech-house grooves in a night of high-octane music and unapologetic style. \nFeaturing DJ KICKS – Known for his genre-bending sets and bold soundscapes\, DJ KICKS will ignite the dance floor with a fusion of Bollywood rhythms and cutting-edge electronic vibes. \nFREE WALK-IN for Stags\, Girls & Couples – No cover\, no limits—just pure party energy from 6 PM onwards. \nVenue: #7\, Labourdonnais St\, White Town\, Puducherry – 605001 RSVP: 89397 98002 | 84287 41617 \nExpect bold visuals\, vibrant crowd\, and a soundtrack that keeps you moving till late. Whether you’re coming solo or with your crew\, this is your Sunday escape into sound\, style\, and celebration. \nDress fierce. Arrive early. Own the night. \n#BollytechSunday #DJGOTLive #FlamingDragonsPondy #PondicherryNightlife #SundayPartyScene #FreeEntryForAll #BollywoodBeats #TechHouseGrooves #WhiteTownVibes #RSVPNow #BonjourPondicherry
URL:https://events.bonjourpondicherry.in/event/bollytech-sunday-flaming-dragons-8/
LOCATION:Flaming Dragons Lounge and Nightlife\, Flaming Dragons\, 7\, Labourdonnais St\, Puducherry\, Puducherry\, Puducherry\, 605001\, India
ATTACH;FMTTYPE=image/jpeg:https://events.bonjourpondicherry.in/wp-content/uploads/2025/12/20251228-Sunday-Flaming-Dragons-1.jpeg
END:VEVENT
END:VCALENDAR