BEGIN:VCALENDAR
VERSION:2.0
PRODID:-//Bonjour Pondichérry ™ - ECPv6.13.2.1//NONSGML v1.0//EN
CALSCALE:GREGORIAN
METHOD:PUBLISH
X-WR-CALNAME:Bonjour Pondichérry ™
X-ORIGINAL-URL:https://events.bonjourpondicherry.in
X-WR-CALDESC:Events for Bonjour Pondichérry ™
REFRESH-INTERVAL;VALUE=DURATION:PT1H
X-Robots-Tag:noindex
X-PUBLISHED-TTL:PT1H
BEGIN:VTIMEZONE
TZID:Asia/Kolkata
BEGIN:STANDARD
TZOFFSETFROM:+0530
TZOFFSETTO:+0530
TZNAME:IST
DTSTART:20250101T000000
END:STANDARD
END:VTIMEZONE
BEGIN:VEVENT
DTSTART;TZID=Asia/Kolkata:20251207T180000
DTEND;TZID=Asia/Kolkata:20251207T233000
DTSTAMP:20260420T145842
CREATED:20251206T055805Z
LAST-MODIFIED:20251206T063913Z
UID:11196-1765130400-1765150200@events.bonjourpondicherry.in
SUMMARY:BOLLYTECH SUNDAY - FLAMING DRAGONS
DESCRIPTION:🎧 BOLLYTECH SUNDAY — A Futuristic Night of Beats & Vibes! \nGet ready to ignite your senses and step into a cyberpunk dreamscape at Flaming Dragons\, Pondicherry this 07th December from 6 PM onwards. Join us for an electrifying evening where Bollywood rhythms meet tech-inspired soundscapes\, headlined by the enigmatic DJ KICKS. \n🕶️ Immerse yourself in neon-lit energy\, cutting-edge visuals\, and a sonic journey that blends tradition with tech. Whether you’re a dancefloor devotee or a vibe chaser\, this is your night to shine. \n📍 Venue: Flaming Dragons\, #7 Labourdonnais St\, White Town\, Pondicherry\, 605001 📞 RSVP: 8939798002 | 8428741617 \n✨ Come dressed to impress\, bring your crew\, and let the music take control. 💥 Limited spots. High voltage atmosphere. Unforgettable memories. \n#BollytechSunday #DJKICKS #FlamingDragonsPondy #CyberBeats #NeonNights #PondicherryEvents #BollywoodMeetsTech #PartyInPondy #DecemberVibes #BonjourPondicherry
URL:https://events.bonjourpondicherry.in/event/bollytech-sunday-flaming-dragons-5/
LOCATION:Flaming Dragons Lounge and Nightlife\, Flaming Dragons\, 7\, Labourdonnais St\, Puducherry\, Puducherry\, Puducherry\, 605001\, India
ATTACH;FMTTYPE=image/jpeg:https://events.bonjourpondicherry.in/wp-content/uploads/2025/12/20251207-Sunday-Flaming-Dragons-1.jpeg
END:VEVENT
END:VCALENDAR