BEGIN:VCALENDAR
VERSION:2.0
PRODID:-//Bonjour Pondichérry ™ - ECPv6.13.2.1//NONSGML v1.0//EN
CALSCALE:GREGORIAN
METHOD:PUBLISH
X-WR-CALNAME:Bonjour Pondichérry ™
X-ORIGINAL-URL:https://events.bonjourpondicherry.in
X-WR-CALDESC:Events for Bonjour Pondichérry ™
REFRESH-INTERVAL;VALUE=DURATION:PT1H
X-Robots-Tag:noindex
X-PUBLISHED-TTL:PT1H
BEGIN:VTIMEZONE
TZID:Asia/Kolkata
BEGIN:STANDARD
TZOFFSETFROM:+0530
TZOFFSETTO:+0530
TZNAME:IST
DTSTART:20250101T000000
END:STANDARD
END:VTIMEZONE
BEGIN:VEVENT
DTSTART;TZID=Asia/Kolkata:20251214T190000
DTEND;TZID=Asia/Kolkata:20251214T233000
DTSTAMP:20260420T113553
CREATED:20251213T054837Z
LAST-MODIFIED:20251213T054837Z
UID:11272-1765738800-1765755000@events.bonjourpondicherry.in
SUMMARY:ANNIVERSARY NIGHT - AMITY NIGHTLIFE
DESCRIPTION:ANNIVERSARY NIGHT AT AMITY TAPROOM & NIGHTLIFE\nCelebrate an unforgettable milestone as Amity Taproom & Nightlife marks its anniversary with a power-packed night of music\, energy\, and celebration. \nGet ready for an electrifying Anniversary Night\, featuring an exclusive K&B Music performance that promises high-energy beats\, seamless transitions\, and an atmosphere built for true nightlife lovers. This is more than just a party – it’s a night crafted to drop the beat and own the moment. \nWith a vibrant crowd\, premium drinks\, and Amity’s signature nightlife experience\, this anniversary celebration is set to be one of the most talked-about nights in Puducherry. \nEVENT DETAILS\nDate: Sunday\, 14th DecemberTime: 7:00 PM onwardsMusic: K&B Music (Live Set) \nENTRY & OFFERS\n• Free entry for girls and couples till 8 PM• Free shooters for ladies• Full cover charge applicable for stags \nVENUE\nAmity Taproom & Nightlife18\, 45FT Road\, Vallalar Salai Road\, Puducherry – 605011 \nRESERVATIONS\n📞 63827 65446 | 89397 98002 \nJoin us as we celebrate another year of music\, memories\, and unforgettable nights.Amity Taproom & Nightlife — where celebrations come alive after dark. \n#AmityNightlife #AmityTaproom #AnniversaryNight #PuducherryNightlife #PondyNightlife #NightlifeCelebration #LiveDJNight #KBMusic #SundayNightVibes #PartyInPondy #ClubNight #WeekendVibes#DanceFloorEnergy #DropTheBeat #NightOutPuducherry #PremiumNightlife #TaproomVibes #CelebrateAtAmity #BonjourPondicherry
URL:https://events.bonjourpondicherry.in/event/anniversary-night-amity-nightlife/
LOCATION:Amity Nightlife\, Amity Sky Bistro\, 18\, 45Ft road\, Vallalar Salai Rd\, Puducherry\, 605011\, Puducherry\,\, 605011\, India
ATTACH;FMTTYPE=image/jpeg:https://events.bonjourpondicherry.in/wp-content/uploads/2025/12/20251214-Sunday-Nightlife-2.jpeg
END:VEVENT
END:VCALENDAR