BEGIN:VCALENDAR
VERSION:2.0
PRODID:-//Bonjour Pondichérry ™ - ECPv6.13.2.1//NONSGML v1.0//EN
CALSCALE:GREGORIAN
METHOD:PUBLISH
X-WR-CALNAME:Bonjour Pondichérry ™
X-ORIGINAL-URL:https://events.bonjourpondicherry.in
X-WR-CALDESC:Events for Bonjour Pondichérry ™
REFRESH-INTERVAL;VALUE=DURATION:PT1H
X-Robots-Tag:noindex
X-PUBLISHED-TTL:PT1H
BEGIN:VTIMEZONE
TZID:Asia/Kolkata
BEGIN:STANDARD
TZOFFSETFROM:+0530
TZOFFSETTO:+0530
TZNAME:IST
DTSTART:20250101T000000
END:STANDARD
END:VTIMEZONE
BEGIN:VEVENT
DTSTART;TZID=Asia/Kolkata:20251211T210000
DTEND;TZID=Asia/Kolkata:20251211T233000
DTSTAMP:20260420T132555
CREATED:20251211T045841Z
LAST-MODIFIED:20251211T045841Z
UID:11241-1765486800-1765495800@events.bonjourpondicherry.in
SUMMARY:AFTERDARK FRIDAY - AMITY NIGHTLIFE
DESCRIPTION:🔥 AFTERDARK FRIDAY’S – AMITY NIGHTLIFE 🔥 \nIt’s time to light up your Friday night at Amity Taproom & Nightlife as we bring you the most electrifying edition of Afterdark Friday’s. Get ready for a night packed with music\, energy\, and unforgettable vibes\, featuring a power-packed set by DJ Balie. \nEnjoy the beats\, sip on your favourite drinks\, and dive into Puducherry’s most happening party atmosphere.And here’s the best part — Free entry for girls and couples till 8 PM\, plus free shooters for ladies to kickstart the celebration. \nJoin us as we celebrate our 2nd Anniversary\, making this Friday even more special with premium music\, great ambience\, and the crowd you love. \n📅 12th December | Friday📍 Amity Taproom & Nightlife\, Puducherry🎧 Featuring: DJ Balie⏰ Party starts from 9 PM onwards📞 RSVP: 6382765446\, 8939798002 \nLet’s turn this Friday into a night worth remembering. \n#AmityNightlife #AmityTaproom #AfterdarkFridays #PuducherryNightlife #DJObalie #FridayParty #PartyVibes #NightOut #PondyEvents #LadiesNight #ClubNight #PartyInPuducherry
URL:https://events.bonjourpondicherry.in/event/afterdark-friday-amity-nightlife/
LOCATION:Amity Nightlife\, Amity Sky Bistro\, 18\, 45Ft road\, Vallalar Salai Rd\, Puducherry\, 605011\, Puducherry\,\, 605011\, India
ATTACH;FMTTYPE=image/jpeg:https://events.bonjourpondicherry.in/wp-content/uploads/2025/12/20251212-Friday-Nightlife-1.jpeg
END:VEVENT
END:VCALENDAR